BEGIN:VCALENDAR
VERSION:2.0
PRODID:-//hacksw/handcal//NONSGML v1.0//EN
BEGIN:VEVENT
SUMMARY:D4 D4 Seniors Poule A 44-NGB-2 D4 contre 44-PBC-4 D4
UID:5471a8d8-d111-4865-828d-091f397939b1
DTSTART:20260115T183000Z
DTEND:20260115T230000Z
LOCATION:Localisation   
CATEGORIES:Sportif
STATUS:
URL;VALUE=URI:https://www.pornichetbadmintonclub.com/evenements/2026/01/15/d4-d4-seniors-poule-a-44-ngb-2-d4-contre-44-pbc-4-d4-2346669
END:VEVENT
END:VCALENDAR
