BEGIN:VCALENDAR
VERSION:2.0
PRODID:-//hacksw/handcal//NONSGML v1.0//EN
BEGIN:VEVENT
SUMMARY:D4 D4 Veterans Poule C 44-BCV-1 D4 Vet contre 44-PBC-3 D4 Vet
UID:47384e1b-9dbe-4fbe-bc23-324b951c8204
DTSTART:20260113T190000Z
DTEND:20260113T230000Z
LOCATION:Localisation   
CATEGORIES:Sportif
STATUS:
URL;VALUE=URI:https://www.pornichetbadmintonclub.com/evenements/2026/01/13/d4-d4-veterans-poule-c-44-bcv-1-d4-vet-contre-44-pbc-3-d4-vet-2346671
END:VEVENT
END:VCALENDAR
